BEGIN:VCALENDAR
VERSION:2.0
PRODID:-//eventon.com NONSGML v1.0//EN
CALSCALE:GREGORIAN
METHOD:PUBLISH
BEGIN:VEVENT
UID:69e7c380f2340
DTSTAMP:20260421T203544
DTSTART:20240419T140000Z
DTEND:20240419T230000Z
TZID:Europe/Budapest
LOCATION:
SUMMARY:bapadaq feat Jazd
DESCRIPTION:Első alkalmas ritmikus\,  szabadmozgásos előadás bapadaq által a Jazd együttes közreműködésével a Lóvasút rendezvény központban. 14 órától: keresztüljátszások\,  erdősimogató levegőztetődés\,  madárkacsicseregtető jelenlét\,  munka/iskola utáni zenés pihentető halláspucolgató szabad program. 19 órától 23 óráig Jazd együttes szabados lélegzetvételű koncert. Viselet: nyugodt\,  kultúrált\,  meditatív mozgáskedvű\,  pozitív lelkületű megjelenés ajánlott\,  illetve adott. 18[..]\nhttps://lovasut.hu/events/bapadaq-feat-jazd/
URL:https://lovasut.hu/events/bapadaq-feat-jazd/
END:VEVENT
END:VCALENDAR