BEGIN:VCALENDAR
VERSION:2.0
PRODID:-//eventon.com NONSGML v1.0//EN
CALSCALE:GREGORIAN
METHOD:PUBLISH
BEGIN:VEVENT
UID:69e7c534e153b
DTSTAMP:20260421T204300
DTSTART:20240427T100000Z
DTEND:20240427T130000Z
TZID:Europe/Budapest
LOCATION:
SUMMARY:Énekelj és beszélj a saját hangodon
DESCRIPTION:Feszengsz\,  ha éneklésről van szó? Elmegy a hangod\,  berekedsz\,  ha nagy a tét és beszélned kell\,  a párodnak\,  a vezetődnek\,  a közönségnek? Kész vagy olyan szabadsággal játszani a hangoddal\,  hogy beleremegjen az egész tested? Kész vagy arra\,  hogy megtapasztald: a hangadás mindig kapcsolatot jelent? Szeretnéd kihozni a hangodból a maximális[..]\nhttps://lovasut.hu/events/enekelj-es-beszelj-a-sajat-hangodon/
URL:https://lovasut.hu/events/enekelj-es-beszelj-a-sajat-hangodon/
END:VEVENT
END:VCALENDAR