BEGIN:VCALENDAR
VERSION:2.0
PRODID:-//eventon.com NONSGML v1.0//EN
CALSCALE:GREGORIAN
METHOD:PUBLISH
BEGIN:VEVENT
UID:69e7c5c62e888
DTSTAMP:20260421T204526
DTSTART:20240521T190000Z
DTEND:20240521T210000Z
TZID:Europe/Budapest
LOCATION:
SUMMARY:Trojka a Lóvasúton 2. nap
DESCRIPTION:O. márkiné személyes története a teljes kiszolgáltatottság metaforája. Nézőpontja a romantikus hősé: O. márkiné idegrendszerével\,  őszinteségével\,  és nem utolsó sorban állapotával haladunk jelenetről jelenetre. A megbocsátás és a szerelem győzedelmeskedik a félelem és a múltban átélt traumák felett. Heinrich von Kleist: O.márkiné című elbeszélését Forgách András fordításának felhasználásával színpadra alkalmazta:[..]\nhttps://lovasut.hu/events/trojka-a-lovasuton-2-nap/
URL:https://lovasut.hu/events/trojka-a-lovasuton-2-nap/
END:VEVENT
END:VCALENDAR