BEGIN:VCALENDAR
VERSION:2.0
PRODID:-//eventon.com NONSGML v1.0//EN
CALSCALE:GREGORIAN
METHOD:PUBLISH
BEGIN:VEVENT
UID:69e68b07513f2
DTSTAMP:20260420T222231
DTSTART:20240522T170000Z
DTEND:20240522T190000Z
TZID:Europe/Budapest
LOCATION:
SUMMARY:Trojka a Lóvasúton 3. nap
DESCRIPTION:Bohumil Hrabal közel negyvenévnyi írásaiból összeállított novella-gyűjteményéből emelünk ki egy-egy történetet. A szerzőre hagyatkozva olyan elsöprő fekete humorral ábrázoljuk a kisember válogatlanul pokoli\,  reménytelen élethelyzeteit\,  hogy minden fekete-fehérré fakult\,  kilátástalannak látszó történet (a szerző zsenialitásának köszönhetően) diadalmasan a mennybe megy. Ezzel a fantasztikus érzet-kontraszttal szeretnénk megmutatni mindennapi életünkben az emblematikus[..]\nhttps://lovasut.hu/events/trojka-a-lovasuton-3-nap/
URL:https://lovasut.hu/events/trojka-a-lovasuton-3-nap/
END:VEVENT
END:VCALENDAR