BEGIN:VCALENDAR
VERSION:2.0
PRODID:-//eventon.com NONSGML v1.0//EN
CALSCALE:GREGORIAN
METHOD:PUBLISH
BEGIN:VEVENT
UID:69e7af7e9e0d3
DTSTAMP:20260421T191022
DTSTART:20240616T190000Z
DTEND:20240616T214000Z
TZID:Europe/Budapest
LOCATION:
SUMMARY:Szeretetkert: Van-e élet a megcsalád után?
DESCRIPTION:A program későbbi időpontban kerül megrendezésre! *** Lehet-e újra kialakítani bizalmat\,  intimitás? Ezzel foglalkozunk ebben az improvizációs játékban\,  ahol jeleneteken keresztül mutatjuk be\,  hogy ki mit él át\,  és hogyan lehet egymáshoz közeledni. Görbe tükröt tartva humorosan olyan példákkal\,  amik előfordulnak\,  de inkább rombolóan hatnak ezekben a helyzetekben\,  és bemutatva[..]\nhttps://lovasut.hu/events/szeretetkert-van-e-elet-a-megcsalad-utan/
URL:https://lovasut.hu/events/szeretetkert-van-e-elet-a-megcsalad-utan/
END:VEVENT
END:VCALENDAR