BEGIN:VCALENDAR
VERSION:2.0
PRODID:-//eventon.com NONSGML v1.0//EN
CALSCALE:GREGORIAN
METHOD:PUBLISH
BEGIN:VEVENT
UID:69e7b06ee266a
DTSTAMP:20260421T191422
DTSTART:20240606T190000Z
DTEND:20240606T202000Z
TZID:Europe/Budapest
LOCATION:
SUMMARY:SZÍNEK!
DESCRIPTION:Az Anima Musicae Kamarazenekar koncertje első alkalommal a Lóvasúton! Művészeti vezető: Tornyai Péter Az Anima Musicae Kamarazenekar 2010-es megalakulása óta hivatásának tekinti a mai zeneművek előadását. Eddig közel nyolcvan\,  a zenekarnak ajánlott művet mutattak be. A sorban az első Tornyai Péter zeneszerző műve volt (Ach Gott und Herr)\,  amely több[..]\nhttps://lovasut.hu/events/szinek/
URL:https://lovasut.hu/events/szinek/
END:VEVENT
END:VCALENDAR