BEGIN:VCALENDAR
VERSION:2.0
PRODID:-//eventon.com NONSGML v1.0//EN
CALSCALE:GREGORIAN
METHOD:PUBLISH
BEGIN:VEVENT
UID:69e7ae7024f01
DTSTAMP:20260421T190552
DTSTART:20240725T180000Z
DTEND:20240725T193000Z
TZID:Europe/Budapest
LOCATION:
SUMMARY:Psszt! Némafilmvetítés - Élő zongorakísérettel
DESCRIPTION:A hosszú\,  meleg\,  budapesti nyári estéken mi is lehetne jobb program\,  mint a fákkal körülölelt zugligeti Lóvasúton klasszikus némafilmeket nézni\,  és közben Répászky Miklós Dániel zongorajátékát hallgatjuk. Ha megéheznénk\,  a messze földön híres EBER desszertező kínálatából válogathatunk. (A cukrászda 19 óráig tart nyitva.) A Lóvasút falán klasszikus rajzfilmek és igazi[..]\nhttps://lovasut.hu/events/psszt-nemafilmvetites-elo-zongorakiserettel-0725/
URL:https://lovasut.hu/events/psszt-nemafilmvetites-elo-zongorakiserettel-0725/
END:VEVENT
END:VCALENDAR