BEGIN:VCALENDAR
VERSION:2.0
PRODID:-//eventon.com NONSGML v1.0//EN
CALSCALE:GREGORIAN
METHOD:PUBLISH
BEGIN:VEVENT
UID:69e7b013b9a0d
DTSTAMP:20260421T191251
DTSTART:20240822T180000Z
DTEND:20240822T193000Z
TZID:Europe/Budapest
LOCATION:
SUMMARY:Psszt! Némafilmvetítés - Élő zongorakísérettel
DESCRIPTION:A hosszú\,  meleg\,  budapesti nyári estéken mi is lehetne jobb program\,  mint a fákkal körülölelt zugligeti Lóvasúton klasszikus némafilmeket nézni\,  és közben Répászky Miklós Dániel zongorajátékát hallgatjuk. Ha megéheznénk\,  a messze földön híres EBER desszertező kínálatából válogathatunk. (A cukrászda 19 óráig tart nyitva.) A Lóvasút falán klasszikus rajzfilmek és igazi[..]\nhttps://lovasut.hu/events/psszt-nemafilmvetites-elo-zongorakiserettel-0822/
URL:https://lovasut.hu/events/psszt-nemafilmvetites-elo-zongorakiserettel-0822/
END:VEVENT
END:VCALENDAR