BEGIN:VCALENDAR
VERSION:2.0
PRODID:-//eventon.com NONSGML v1.0//EN
CALSCALE:GREGORIAN
METHOD:PUBLISH
BEGIN:VEVENT
UID:69e7b0d8b8f65
DTSTAMP:20260421T191608
DTSTART:20240609T160000Z
DTEND:20240609T180000Z
TZID:Europe/Budapest
LOCATION:
SUMMARY:HANGRÓZSA XXI
DESCRIPTION:A növendékek műsora A hazánkban alkalmazott alap- és középfokú zeneiskolai tananyag mellett Németország és az USA legnépszerűbb köteteiből szólalnak meg zeneművek\,  illetve a brit ABRSM vizsgaanyaga. Juhász Balázs zongoratanár műsora: Claude Achille Debussy: Deux Arabesques No. 1\,  L 66 dr. Báll Dávid zongoraművész műsora: részletek Bartók Béla: Gyermekeknek c. köteteiből[..]\nhttps://lovasut.hu/events/hangrozsa-xxi/
URL:https://lovasut.hu/events/hangrozsa-xxi/
END:VEVENT
END:VCALENDAR