BEGIN:VCALENDAR
VERSION:2.0
PRODID:-//eventon.com NONSGML v1.0//EN
CALSCALE:GREGORIAN
METHOD:PUBLISH
BEGIN:VEVENT
UID:69e7b0c6f2451
DTSTAMP:20260421T191550
DTSTART:20240724T190000Z
DTEND:20240724T203000Z
TZID:Europe/Budapest
LOCATION:
SUMMARY:Thai-Magyar Zenei Ünnep
DESCRIPTION:A Moradokmai (TH) és Puli (HU) zenekarok közös estje Ez az egyedülálló koncert a magyar és thai zenei hagyományokat hivatott bemutatni és ápolni\,  valamint hidat képezni a két kultúra között. A világzenei eseményen lenyűgöző zenei műsorral\,  páratlan hangulattal és felejthetetlen pillanatokkal várnak a szervezők minden érdeklődőt. Kortárs ritmusok hagyományos hangokContemporary[..]\nhttps://lovasut.hu/events/thai-magyar-zenei-unnep/
URL:https://lovasut.hu/events/thai-magyar-zenei-unnep/
END:VEVENT
END:VCALENDAR