BEGIN:VCALENDAR
VERSION:2.0
PRODID:-//eventon.com NONSGML v1.0//EN
CALSCALE:GREGORIAN
METHOD:PUBLISH
BEGIN:VEVENT
UID:69e7af6527e5e
DTSTAMP:20260421T190957
DTSTART:20240916T190000Z
DTEND:20240916T203000Z
TZID:Europe/Budapest
LOCATION:
SUMMARY:Berecz András a Lóvasútban
DESCRIPTION:A 2024-es Ars Sacra Fesztivál idén is várja a festői zugligeti Lóvasút Kulturális és Rendezvényközpontban az érdeklődőket! Berecz András Kossuth-díjas mesemondó\,  népmesegyűjtő\,  folklórkutató és előadóművész\,  már harmadik alkalommal mesél Fesztiválunkon. Ismét hallhatjuk józan népies bölcsességét\,  mindig új\,  kacagtató tréfáit\,  gyermeki játékosságát\,  derülhetünk egész lényének huncutságán\,  aki nem hiszi\,  járjon –[..]\nhttps://lovasut.hu/events/berecz-andras-a-lovasuton/
URL:https://lovasut.hu/events/berecz-andras-a-lovasuton/
END:VEVENT
END:VCALENDAR