BEGIN:VCALENDAR
VERSION:2.0
PRODID:-//eventon.com NONSGML v1.0//EN
CALSCALE:GREGORIAN
METHOD:PUBLISH
BEGIN:VEVENT
UID:69e7aeaeacd62
DTSTAMP:20260421T190654
DTSTART:20240920T190000Z
DTEND:20240920T203000Z
TZID:Europe/Budapest
LOCATION:
SUMMARY:Tallós Álmos a Lóvasúton
DESCRIPTION:A 2024-es Ars Sacra Fesztivál idén is várja a festői zugligeti Lóvasút Kulturális és Rendezvényközpontban az érdeklődőket! Műsor: Germaine Tailleferre: Sonate pour harpe Johann Sebastina Bach: Toccata und Fuge in d-Moll Tallós Álmos: Hárfaszonáta Germaine Tailleferre: Romance Alfredo Casella: Sonata per arpa Henriette Renié: Piece symphonique Tallós Álmos László (2003)[..]\nhttps://lovasut.hu/events/tallos-almos-a-lovasuton/
URL:https://lovasut.hu/events/tallos-almos-a-lovasuton/
END:VEVENT
END:VCALENDAR