BEGIN:VCALENDAR
VERSION:2.0
PRODID:-//eventon.com NONSGML v1.0//EN
CALSCALE:GREGORIAN
METHOD:PUBLISH
BEGIN:VEVENT
UID:69e95377dbe09
DTSTAMP:20260423T010215
DTSTART:20240911
DTEND:20241219
TZID:Europe/Budapest
LOCATION:
SUMMARY:Ringató foglalkozás
DESCRIPTION:Szeptembertől minden héten Ringató a zugligeti Lóvasúton! Szerdánként 10 órától. A foglalkozás 30 perc hosszú. Éneklő\,  játszó édesanyák\,  édesapák csoportja\,  ahová már néhány hónapos kisbabával is lehet érkezni. A foglalkozások célja\,  hogy oldott\,  elfogadó légkörben megismertesse a legkisebb gyermekek zenei nevelésének lehetőségeit\,  és a kicsik érzékennyé\,  fogékonnyá váljanak a jó[..]\nhttps://lovasut.hu/events/ringato-foglalkozas-2024/
URL:https://lovasut.hu/events/ringato-foglalkozas-2024/
END:VEVENT
END:VCALENDAR