BEGIN:VCALENDAR
VERSION:2.0
PRODID:-//eventon.com NONSGML v1.0//EN
CALSCALE:GREGORIAN
METHOD:PUBLISH
BEGIN:VEVENT
UID:69e79847e5e93
DTSTAMP:20260421T173119
DTSTART:20241027T103000Z
DTEND:20241027T111500Z
TZID:Europe/Budapest
LOCATION:
SUMMARY:Aranyszamár Bábszínház: Hüvelyk Matyi
DESCRIPTION:Grimm testvérek-Fekete Ádám: HÜVELYK MATYI\,  avagy nagyvárosi kiskalandok Az Aranyszamár Bábszínház előadásában. A Grimm testvérek klasszikus meséje elevenedik meg bábos formában\,  sok játékkal\,  humorral és nem várt meglepetésekkel! Dramaturg: Sőregi Melinda\,  Szántó Viktória Tervezés: Miareczky Edit Zene: Nyitrai László Rendezés: Fige Attila Játsszák: Érsek-Csanádi Gyöngyi\,  György Zoltán Dávid 4 éves[..]\nhttps://lovasut.hu/events/aranyszamar-babszinhaz-huvelyk-matyi/
URL:https://lovasut.hu/events/aranyszamar-babszinhaz-huvelyk-matyi/
END:VEVENT
END:VCALENDAR