BEGIN:VCALENDAR
VERSION:2.0
PRODID:-//eventon.com NONSGML v1.0//EN
CALSCALE:GREGORIAN
METHOD:PUBLISH
BEGIN:VEVENT
UID:69e77b1d14bc6
DTSTAMP:20260421T152653
DTSTART:20241215T103000Z
DTEND:20241215T111500Z
TZID:Europe/Budapest
LOCATION:
SUMMARY:Meseerdő Bábszínház: A legszebb karácsonyfa
DESCRIPTION:10:30 Meseerdő Bábszínház: A legszebb karácsonyfa Az ünnepi hangulatú meséből megtudjuk miként válik az erdő legkisebb fájából a legszebb karácsonyfa. Papp Ágnes előadásában. Az előadás után ajtókopogtatót természetes alapanyagokból és kerámia szélcsengőt készíthetnek a kicsik és nagyok. A sorozat kötovábbi alkalmai: Október 27. 10:30-11:15 Grimm testvérek-Fekete Ádám: HÜVELYK MATYI\,  avagy[..]\nhttps://lovasut.hu/events/meseerdo-babszinhaz-a-legszebb-karacsonyfa/
URL:https://lovasut.hu/events/meseerdo-babszinhaz-a-legszebb-karacsonyfa/
END:VEVENT
END:VCALENDAR