BEGIN:VCALENDAR
VERSION:2.0
PRODID:-//eventon.com NONSGML v1.0//EN
CALSCALE:GREGORIAN
METHOD:PUBLISH
BEGIN:VEVENT
UID:69e794deeb9c0
DTSTAMP:20260421T171646
DTSTART:20241103T103000Z
DTEND:20241103T111500Z
TZID:Europe/Budapest
LOCATION:
SUMMARY:Ecc\,  pecc! - Ki lehetsz?
DESCRIPTION:November 3-án és 24-én\,  vasárnap délelőtt 9:30-tól a 3 év alatti\,  majd 10:30-tól az óvodás korosztály számára tart az Öröm-Hang-Ár csapat zenepedagógiai foglalkozásokat. A foglalkozás egy interaktív\,  komplex zenei foglalkozás óvodásoknak a művészetterápia eszközeivel. Zene\,  ritmus\,  játék\,  mozgás egységében\,  állatok bőrébe bújva ismerkedünk meg alapvető érzelmeinkkel. Egy nyitott\,  elfogadó\,  szeretetteljes[..]\nhttps://lovasut.hu/events/ecc-pecc-ki-lehetsz/
URL:https://lovasut.hu/events/ecc-pecc-ki-lehetsz/
END:VEVENT
END:VCALENDAR