BEGIN:VCALENDAR
VERSION:2.0
PRODID:-//eventon.com NONSGML v1.0//EN
CALSCALE:GREGORIAN
METHOD:PUBLISH
BEGIN:VEVENT
UID:69e79302dbbec
DTSTAMP:20260421T170850
DTSTART:20241124T093000Z
DTEND:20241124T101500Z
TZID:Europe/Budapest
LOCATION:
SUMMARY:Izgő-mozgó hangerdő
DESCRIPTION:November 3-án és 24-én\,  vasárnap délelőtt 9:30-tól a 3 év alatti\,  majd 10:30-tól az óvodás korosztály számára tart az Öröm-Hang-Ár csapat zenepedagógiai foglalkozásokat. Az „Izgő-mozgó Hangerdő” interaktív zenei foglalkozásra a 0-3 éves korosztályt és családjukat várjuk. A foglalkozásban egységet alkot régi és új: hagyományos népi mondókák\,  gyerekdalok\,  ölbéli játékok mellett[..]\nhttps://lovasut.hu/events/izgo-mozgo-hangerdo-1124/
URL:https://lovasut.hu/events/izgo-mozgo-hangerdo-1124/
END:VEVENT
END:VCALENDAR