BEGIN:VCALENDAR
VERSION:2.0
PRODID:-//eventon.com NONSGML v1.0//EN
CALSCALE:GREGORIAN
METHOD:PUBLISH
BEGIN:VEVENT
UID:69e7af35895e8
DTSTAMP:20260421T190909
DTSTART:20241005T093000Z
DTEND:20241005T103000Z
TZID:Europe/Budapest
LOCATION:
SUMMARY:Góbi Rita Társulat: Pici Bonbon
DESCRIPTION:Október 5-én a Zugligeti Családi Napot Rita Gobi 🍬Pici Bonbon🍬 című mozgásfoglalkozással egybekötött mesés-táncos előadás nyitja 9:30-kor! 🎁Hogyan ajándékozunk? Az előadás játékos módon mutatja meg a bölcsődés és óvodás korosztály számára az ajándékozás folyamatát. Az ajándékozás különleges kapcsolatot képez az ajándékozó és az ajándékozott között. Az adás gesztusa fontos\,  és[..]\nhttps://lovasut.hu/events/gobi-rita-tarsulat-pici-bonbon/
URL:https://lovasut.hu/events/gobi-rita-tarsulat-pici-bonbon/
END:VEVENT
END:VCALENDAR