BEGIN:VCALENDAR
VERSION:2.0
PRODID:-//eventon.com NONSGML v1.0//EN
CALSCALE:GREGORIAN
METHOD:PUBLISH
BEGIN:VEVENT
UID:69e7954fc84df
DTSTAMP:20260421T171839
DTSTART:20241116T173000Z
DTEND:20241116T184400Z
TZID:Europe/Budapest
LOCATION:
SUMMARY:János vitéz (1973)
DESCRIPTION:A Lóvasút Kulturális és Rendezvényközpont is csatlakozik az Országos Rafjzfilmünnephez! Ingyenes vetítések: 16:00 Szaffi (1985\,  rendezte: Dargay Attila) 3 éves kortól ajánljuk 17:30 János vitéz (1973\,  rendezte: Jankovics Marcell) 6 éves kortól ajánljuk 19:00 Műanyag égbolt (2023\,  rendezte: Szabó Sarolta\,  Bánóczki Tibor) 16 éves kortól ajánljuk Bővebb információ a programról:[..]\nhttps://lovasut.hu/events/janos-vitez/
URL:https://lovasut.hu/events/janos-vitez/
END:VEVENT
END:VCALENDAR