BEGIN:VCALENDAR
VERSION:2.0
PRODID:-//eventon.com NONSGML v1.0//EN
CALSCALE:GREGORIAN
METHOD:PUBLISH
BEGIN:VEVENT
UID:69e790f592970
DTSTAMP:20260421T170005
DTSTART:20241116T190000Z
DTEND:20241116T202000Z
TZID:Europe/Budapest
LOCATION:
SUMMARY:MOME Anim diplomafilmek (2022-2023)
DESCRIPTION:A Lóvasút Kulturális és Rendezvényközpont is csatlakozik az Országos Rafjzfilmünnephez! Ingyenes vetítések: 16:00 Szaffi (1985\,  rendezte: Dargay Attila) 3 éves kortól ajánljuk 17:30 János vitéz (1973\,  rendezte: Jankovics Marcell) 6 éves kortól ajánljuk 19:00 MOME Anim diplomafilmek (2022-2023\,  David Crisp &#8211; A World in Chaos\,  Ivády Tamás &#8211; Örökrész\,  Mira[..]\nhttps://lovasut.hu/events/mome-anim/
URL:https://lovasut.hu/events/mome-anim/
END:VEVENT
END:VCALENDAR