BEGIN:VCALENDAR
VERSION:2.0
PRODID:-//eventon.com NONSGML v1.0//EN
CALSCALE:GREGORIAN
METHOD:PUBLISH
BEGIN:VEVENT
UID:69e795362a214
DTSTAMP:20260421T171814
DTSTART:20241116T110000Z
DTEND:20241116T123000Z
TZID:Europe/Budapest
LOCATION:
SUMMARY:Egy rózsaszál szebben beszél...
DESCRIPTION:A János vitéz című daljáték születésének 120. évfordulójára színpadra alkalmazta Máthé Zsolt\,  Bókay János írása alapján. Szereplők: Fedák Sári\,  Rákosi Szidi\,  Beöthyné Gizi\,  Barna Mária: ZSIGMOND EMŐKE Gráci (Kacsoh Pongrác): MÁTYÁSSY BENCE János (Heltai Jenő)\,  Beöthy László: MÁTHÉ ZSOLT Rendező: Máthé Zsolt Producer: Mátyássy Bence (Kacsoh Pongrác dédunokája) Benoit Produkció[..]\nhttps://lovasut.hu/events/egy-rozsaszal-szebben-beszel/
URL:https://lovasut.hu/events/egy-rozsaszal-szebben-beszel/
END:VEVENT
END:VCALENDAR