BEGIN:VCALENDAR
VERSION:2.0
PRODID:-//eventon.com NONSGML v1.0//EN
CALSCALE:GREGORIAN
METHOD:PUBLISH
BEGIN:VEVENT
UID:69e794f3cdaab
DTSTAMP:20260421T171707
DTSTART:20241207T190000Z
DTEND:20241207T203000Z
TZID:Europe/Budapest
LOCATION:
SUMMARY:WINTER SONGS
DESCRIPTION:A Winter Songs Ola Gjeilo norvég születésű\,  amerikai szerző kórusra\,  vonósötösre és zongorára írt csodálatos hangvételű\,  magával ragadó\,  varázslatos zenéje\,  melynek gerincét olyan\,  az ünnepkörhöz kapcsolódó dallamokból álló zeneművek alkotják\,  melyen keresztül teljes mértékben átélhetjük a karácsony meghitt\,  varázslatos hangulatát. A Filmhatás Projekt egy olyan összművészeti produkció\,  mely mindig az[..]\nhttps://lovasut.hu/events/winter-songs-1207/
URL:https://lovasut.hu/events/winter-songs-1207/
END:VEVENT
END:VCALENDAR