BEGIN:VCALENDAR
VERSION:2.0
PRODID:-//eventon.com NONSGML v1.0//EN
CALSCALE:GREGORIAN
METHOD:PUBLISH
BEGIN:VEVENT
UID:69e776f0c3dc7
DTSTAMP:20260421T150904
DTSTART:20241215T193000Z
DTEND:20241215T203000Z
TZID:Europe/Budapest
LOCATION:
SUMMARY:Oriolus 16
DESCRIPTION:1 kórus 2 karvezető 4 főszólam 8 alszólam 16 közös év Ez alkalomból készültünk egy olyan műsorral\,  ami felöleli ezt a 16 évet\,  16 közös karácsonyt. A bűvös 16-os szám szimmetriára ihletett minket: 4\,  8\,  helyenként akár 16 szólamú darabokat választottuk\,  pont 16-ot: 8-at\,  ami a szívünket átmelengeti az év[..]\nhttps://lovasut.hu/events/oriolus-16/
URL:https://lovasut.hu/events/oriolus-16/
END:VEVENT
END:VCALENDAR