BEGIN:VCALENDAR
VERSION:2.0
PRODID:-//eventon.com NONSGML v1.0//EN
CALSCALE:GREGORIAN
METHOD:PUBLISH
BEGIN:VEVENT
UID:69e77b552b932
DTSTAMP:20260421T152749
DTSTART:20250112T180000Z
DTEND:20250112T191500Z
TZID:Europe/Budapest
LOCATION:
SUMMARY:A Lanner Kvartett Újévi Koncertje
DESCRIPTION:Sok szeretettel várjuk Önöket a Lanner Kvartett Újévi koncertjére! Ezúttal Vörös Eszter bandoneón művész lesz a vendégünk\,  akinek a segítségével a bécsi muzsika mellett a tangó varázslatos világába kalauzoljuk Önöket. A belépés ingyenes\,  de a Zenés Vendégség végén kérjük\,  hogy lehetőségéhez mérten támogassa a Lanner Kvartett Alapítvány munkáját hasonló rendezvények[..]\nhttps://lovasut.hu/events/a-lanner-kvartett-ujevi-koncertje/
URL:https://lovasut.hu/events/a-lanner-kvartett-ujevi-koncertje/
END:VEVENT
END:VCALENDAR