BEGIN:VCALENDAR
VERSION:2.0
PRODID:-//eventon.com NONSGML v1.0//EN
CALSCALE:GREGORIAN
METHOD:PUBLISH
BEGIN:VEVENT
UID:69e77725dab8a
DTSTAMP:20260421T150957
DTSTART:20250108
DTEND:20250612
TZID:Europe/Budapest
LOCATION:
SUMMARY:Ringató foglalkozás
DESCRIPTION:Minden héten Ringató a zugligeti Lóvasúton! Szerdánként 10 órától. A FOGLALKOZÁS ÁPRILIS 2-ÁN ELMARAD! A foglalkozás 30 perc hosszú. Éneklő\,  játszó édesanyák\,  édesapák csoportja\,  ahová már néhány hónapos kisbabával is lehet érkezni. A foglalkozások célja\,  hogy oldott\,  elfogadó légkörben megismertesse a legkisebb gyermekek zenei nevelésének lehetőségeit\,  és a kicsik érzékennyé\, [..]\nhttps://lovasut.hu/events/ringato-foglalkozas-20205-tavasz/
URL:https://lovasut.hu/events/ringato-foglalkozas-20205-tavasz/
END:VEVENT
END:VCALENDAR