BEGIN:VCALENDAR
VERSION:2.0
PRODID:-//eventon.com NONSGML v1.0//EN
CALSCALE:GREGORIAN
METHOD:PUBLISH
BEGIN:VEVENT
UID:69e77e6a84dae
DTSTAMP:20260421T154058
DTSTART:20250104T180000Z
DTEND:20250104T191500Z
TZID:Europe/Budapest
LOCATION:
SUMMARY:Barcarola Kvartett
DESCRIPTION:Immár hagyományosnak számító Évköszöntő koncertjére invitálja Önöket a Barcarola Kvartett. A Budapesti Fesztiválzenekar művészeiből alakult formabontó együttes\,  elszakadva a klasszikus vonósnégyesek irodalmától\,  saját maguk által készített átiratokban játsszák nem csak a klasszikus zeneirodalom örökzöld remekeit\,  de bátran nyúlnak más műfajokhoz is. Műsorukat a zenei sokszínűség\,  jókedv\,  közvetlenség\,  útkeresés és bátorság[..]\nhttps://lovasut.hu/events/barcarola-kvartett-evkoszonto-koncert/
URL:https://lovasut.hu/events/barcarola-kvartett-evkoszonto-koncert/
END:VEVENT
END:VCALENDAR