BEGIN:VCALENDAR
VERSION:2.0
PRODID:-//eventon.com NONSGML v1.0//EN
CALSCALE:GREGORIAN
METHOD:PUBLISH
BEGIN:VEVENT
UID:69e760594b74d
DTSTAMP:20260421T133241
DTSTART:20250223T100000Z
DTEND:20250223T105000Z
TZID:Europe/Budapest
LOCATION:
SUMMARY:Plimplim
DESCRIPTION:A 0-4 éves korosztályt és szüleiket\,  nagyszüleiket várja a Lóvasút babaszínházi sorozata. Alkalmak: Január 26. 10:00 Vaskakas Bábszínház: Dödölle Február 23. 10:00 Kövér Béla Bábszínház: Plimplim Március 23. 10:00 Napsugár Bábszínház: Pöttöm pöttyön pöttyös pötty Április 27. 10:00 Aranyszamár Bábszínház: Álomszövők Február 23. Kövér Béla Bábszínház (Szeged): Plimplim zene- és[..]\nhttps://lovasut.hu/events/plimplim/
URL:https://lovasut.hu/events/plimplim/
END:VEVENT
END:VCALENDAR