BEGIN:VCALENDAR
VERSION:2.0
PRODID:-//eventon.com NONSGML v1.0//EN
CALSCALE:GREGORIAN
METHOD:PUBLISH
BEGIN:VEVENT
UID:69e7605944070
DTSTAMP:20260421T133241
DTSTART:20250316T103000Z
DTEND:20250316T111500Z
TZID:Europe/Budapest
LOCATION:
SUMMARY:Ecc\,  pecc! - Ki lehetsz?
DESCRIPTION:Zenepedagógiai foglalkozások a Lóvasúton az óvodás korosztálynak! Havi egy vasárnap délelőtt 9:30-tól a 3 év alatti\,  majd 10:30-tól az óvodás korosztály számára tart az Öröm-Hang-Ár csapat zenepedagógiai foglalkozásokat. A foglalkozás egy interaktív\,  komplex zenei foglalkozás óvodásoknak a művészetterápia eszközeivel. Zene\,  ritmus\,  játék\,  mozgás egységében\,  állatok bőrébe bújva ismerkedünk meg alapvető[..]\nhttps://lovasut.hu/events/ecc-pecc-ki-lehetsz-0316/
URL:https://lovasut.hu/events/ecc-pecc-ki-lehetsz-0316/
END:VEVENT
END:VCALENDAR