BEGIN:VCALENDAR
VERSION:2.0
PRODID:-//eventon.com NONSGML v1.0//EN
CALSCALE:GREGORIAN
METHOD:PUBLISH
BEGIN:VEVENT
UID:69e77a6ce23eb
DTSTAMP:20260421T152356
DTSTART:20250118T190000Z
DTEND:20250118T203000Z
TZID:Europe/Budapest
LOCATION:
SUMMARY:Üvegfal
DESCRIPTION:Tisztelt Jegyvásárló! A 2025. január 18-i Üvegfal (Gryllus Dorka és Simon Kornél &#8211; Zenés szövegszínház Dobray Sarolta Üvegfal című könyvéből) című előadás technikai okokból elmarad. Amennyiben vissza szeretné váltani jegyét\,  azt a jegy@momkult.hu címen jelezheti. A nem visszaváltott jegyek a következő időpontok valamelyikén érvényesek: 2024. december 16. (hétfő) 19:00 2024.[..]\nhttps://lovasut.hu/events/uvegfal-0118/
URL:https://lovasut.hu/events/uvegfal-0118/
END:VEVENT
END:VCALENDAR