BEGIN:VCALENDAR
VERSION:2.0
PRODID:-//eventon.com NONSGML v1.0//EN
CALSCALE:GREGORIAN
METHOD:PUBLISH
BEGIN:VEVENT
UID:69e747fbce79b
DTSTAMP:20260421T114843
DTSTART:20250511T170000Z
DTEND:20250511T180000Z
TZID:Europe/Budapest
LOCATION:
SUMMARY:OMNIBUS-koncertek
DESCRIPTION:&#8222;Zene komolyan mindenkinek!&#8221; A Surján Kamaraegyüttes klasszikus zenei sorozata\,  amely a házimuzsikálás hagyományát eleveníti fel. Családi koncert\,  ahová a felnőtteket a gyerekek is elkísérhetik. A kicsikkel zenepedagógus foglalkozik\,  hogy a szülők zavartalanul élvezhessék az előadást. A Megállóban mindannyian együtt muzsikálunk! A koncert előtt 15 perccel játékos &#8211; zenés ráhangolódás a[..]\nhttps://lovasut.hu/events/omnibus-koncertek-0511/
URL:https://lovasut.hu/events/omnibus-koncertek-0511/
END:VEVENT
END:VCALENDAR