BEGIN:VCALENDAR
VERSION:2.0
PRODID:-//eventon.com NONSGML v1.0//EN
CALSCALE:GREGORIAN
METHOD:PUBLISH
BEGIN:VEVENT
UID:69e74ac8c8f6d
DTSTAMP:20260421T120040
DTSTART:20250413T100000Z
DTEND:20250413T130000Z
TZID:Europe/Budapest
LOCATION:
SUMMARY:Zugligeti Családi Délelőtt
DESCRIPTION:MINDEN REGISZTRÁCIÓS JEGY ELKELT! A regisztrációval rendelkezőket várjuk sok szeretettel rendezvényünkön! A 10 órakor kezdődő zugligeti helytörténeti sétához még szabadon lehet csatlakozni\,  ahhoz nem szükséges regisztráció! A sétát Földváry Gergely\,  a Hegyvidéki Helytörténeti Gyűjtemény vezetője tartja\,  találkozó a Lóvasút teraszán. A program hossza nagyjából 1\, 5 óra. A sétát elsősorban felnőtteknek[..]\nhttps://lovasut.hu/events/zugligeti-csaladi-delelott/
URL:https://lovasut.hu/events/zugligeti-csaladi-delelott/
END:VEVENT
END:VCALENDAR