BEGIN:VCALENDAR
VERSION:2.0
PRODID:-//eventon.com NONSGML v1.0//EN
CALSCALE:GREGORIAN
METHOD:PUBLISH
BEGIN:VEVENT
UID:69e760d12000a
DTSTAMP:20260421T133441
DTSTART:20250227T173000Z
DTEND:20250227T190000Z
TZID:Europe/Budapest
LOCATION:
SUMMARY:Az életvégi döntések – tények és tévhitek
DESCRIPTION:Karsai Dániel ügyvéd küzdelme az életvégi döntésekért sokak számára lehet ismert. A 2023 őszén nyilvánosságra került betegségével az életvégi döntések kérdése megkerülhetetlen témává vált a magyar társadalomban. Szó esik róla a tárgyalótermekben\,  a kórházakban\,  de még a baráti beszélgetések során is. Számos megvitatandó pont merül fel vele kapcsolatban: van-e joga[..]\nhttps://lovasut.hu/events/az-eletvegi-dontesek-tenyek-es-tevhitek/
URL:https://lovasut.hu/events/az-eletvegi-dontesek-tenyek-es-tevhitek/
END:VEVENT
END:VCALENDAR