BEGIN:VCALENDAR
VERSION:2.0
PRODID:-//eventon.com NONSGML v1.0//EN
CALSCALE:GREGORIAN
METHOD:PUBLISH
BEGIN:VEVENT
UID:69e7602f2e0db
DTSTAMP:20260421T133159
DTSTART:20250304T180000Z
DTEND:20250304T200000Z
TZID:Europe/Budapest
LOCATION:
SUMMARY:Városrészi fórum
DESCRIPTION:A Közösségi Részvételi Iroda programsorozatának részeként újra városrészi fórumot szervezünk\,  melynek célja a helyi közösségek\,  szomszédságok problémáinak feltárása\,  és a közös megoldások keresése. A most következő városrészi fórumon Zugliget\,  Virányos és Kútvölgy lakóival beszélgetünk. Előzetes ötleteket az alábbi űrlapon keresztül lehet beküldeni: https://hegyvidek.hu/varosreszi-forum Szeretettel várunk minden korosztályt! Zugligeti\,  Virányos\,  Kútvölgy\nhttps://lovasut.hu/events/varosreszi-forum/
URL:https://lovasut.hu/events/varosreszi-forum/
END:VEVENT
END:VCALENDAR