BEGIN:VCALENDAR
VERSION:2.0
PRODID:-//eventon.com NONSGML v1.0//EN
CALSCALE:GREGORIAN
METHOD:PUBLISH
BEGIN:VEVENT
UID:69e4da89edeef
DTSTAMP:20260419T153713
DTSTART:20250427T190000Z
DTEND:20250427T202000Z
TZID:Europe/Budapest
LOCATION:
SUMMARY:Apák a padban
DESCRIPTION:Sajnálattal értesítjük nézőinket\,  hogy az előadás technikai okokból elmarad. Az erre az alkalomra jeggyel rendelkezőket a későbbi időpontban meghirdetésre kerülő novemberi alkalomra várjuk. Lehetőség van a jegyár visszatérítésére is\,  igény esetén írjon a jegy@momkult.hu címre. Köszönjük megértésüket! &#8212;&#8212;&#8212;&#8212;&#8212;&#8212;&#8212;&#8212;&#8212;&#8212;&#8212;&#8212;&#8212;&#8212;&#8212;&#8212;&#8212;&#8212;&#8211; Szily László Beírás című művéből Deres Péter\,  Lukács Miklós\,  Simon Kornél: Apák[..]\nhttps://lovasut.hu/events/apak-a-padban-0427/
URL:https://lovasut.hu/events/apak-a-padban-0427/
END:VEVENT
END:VCALENDAR