BEGIN:VCALENDAR
VERSION:2.0
PRODID:-//eventon.com NONSGML v1.0//EN
CALSCALE:GREGORIAN
METHOD:PUBLISH
BEGIN:VEVENT
UID:69e760d11f8ba
DTSTAMP:20260421T133441
DTSTART:20250330T193000Z
DTEND:20250330T210000Z
TZID:Europe/Budapest
LOCATION:
SUMMARY:Szerény javaslat
DESCRIPTION:Közélet és közérzet egymásra hatását\,  a politika hormonális hatásait vizsgálja Juhász Kata legújabb élőzenés előadásában\,  mely a kortárstánc és a stand-up elemeit vegyíti. Bemutató a Lóvasút Kulturális és Rendezvényközpontban\,  március 30-án este 7:30-kor. Juhász Kata olyan művész -táncos\,  előadóművész\,  koreográfus- aki önálló társulatot vezet és előadásaival rendszerint aktualitással bíró társadalmi[..]\nhttps://lovasut.hu/events/szereny-javaslat/
URL:https://lovasut.hu/events/szereny-javaslat/
END:VEVENT
END:VCALENDAR