BEGIN:VCALENDAR
VERSION:2.0
PRODID:-//eventon.com NONSGML v1.0//EN
CALSCALE:GREGORIAN
METHOD:PUBLISH
BEGIN:VEVENT
UID:69e805ec61c3f
DTSTAMP:20260422T011908
DTSTART:20250413T180000Z
DTEND:20250413T200000Z
TZID:Europe/Budapest
LOCATION:
SUMMARY:Világzene a Zsámbéki-medencéből
DESCRIPTION:A Puli legfeltűnőbb sajátossága a páratlan szőrköntöse\,  ami alatt a raszta szív dobog. Vallja\,  hogy a világ zene. Oda van a juhászokért. Legyen az csillagszemű\,  búsuló\,  vagy igazmondó. Juhász Gyula\,  vagy akár Kukorica János. Egyik karakteres vonása a Kárpát-medencei pásztorzenében kifejezódő unikális magyar életérzés megragadása. Dalai sajátos hang-ökológiai tanulmányok\,  zenék[..]\nhttps://lovasut.hu/events/vilagzene-a-zambeki-medencebol/
URL:https://lovasut.hu/events/vilagzene-a-zambeki-medencebol/
END:VEVENT
END:VCALENDAR