BEGIN:VCALENDAR
VERSION:2.0
PRODID:-//eventon.com NONSGML v1.0//EN
CALSCALE:GREGORIAN
METHOD:PUBLISH
BEGIN:VEVENT
UID:69e72f2951a66
DTSTAMP:20260421T100249
DTSTART:20250622T103000Z
DTEND:20250622T111500Z
TZID:Europe/Budapest
LOCATION:
SUMMARY:Ecc\,  pecc! - Ki lehetsz?
DESCRIPTION:Zenepedagógiai foglalkozások a Lóvasúton az óvodás korosztálynak Június 22-én várjuk az érdeklődőket egy nyárindító zenepedagógiai foglalkozásra! 9:30-tól a 3 év alatti\,  majd 10:30-tól az óvodás korosztály számára tartja az Öröm-Hang-Ár csapat a foglalkozást. A foglalkozás egy interaktív\,  komplex zenei foglalkozás óvodásoknak a művészetterápia eszközeivel. Zene\,  ritmus\,  játék\,  mozgás egységében\,  állatok[..]\nhttps://lovasut.hu/events/ecc-pecc-ki-lehetsz-0622/
URL:https://lovasut.hu/events/ecc-pecc-ki-lehetsz-0622/
END:VEVENT
END:VCALENDAR