BEGIN:VCALENDAR
VERSION:2.0
PRODID:-//eventon.com NONSGML v1.0//EN
CALSCALE:GREGORIAN
METHOD:PUBLISH
BEGIN:VEVENT
UID:69e72f29510c6
DTSTAMP:20260421T100249
DTSTART:20250622T183700Z
DTEND:20250622T210000Z
TZID:Europe/Budapest
LOCATION:
SUMMARY:Ég és föld
DESCRIPTION:A Pesztraton\,  a Marczibányi téri Kodály iskola szülői kórusának évadzáró koncertje. Műsorunk évszázadokon átível\,  spirituális témákat feldolgozva mutatja be az emberi kapcsolatokat természettel\,  hittel\,  népi hagyományokkal. Koncertünk az eddig megszokott kötetlen és tökéletes tökéletlenségre törekvő\,  minimálisan interaktív hangulatot garantálja a közönségünknek. Nagyon nagy szeretettel várunk mindenkit! A Pesztraton kórus koncertje\nhttps://lovasut.hu/events/eg-es-fold/
URL:https://lovasut.hu/events/eg-es-fold/
END:VEVENT
END:VCALENDAR