BEGIN:VCALENDAR
VERSION:2.0
PRODID:-//eventon.com NONSGML v1.0//EN
CALSCALE:GREGORIAN
METHOD:PUBLISH
BEGIN:VEVENT
UID:69e72fa429f7a
DTSTAMP:20260421T100452
DTSTART:20250528T170000Z
DTEND:20250528T190000Z
TZID:Europe/Budapest
LOCATION:
SUMMARY:Gesztenyeteve
DESCRIPTION:A MOME és ELTE hallgatóinak a XII. kerületről szóló részvételi-közösségi projektbemutatója Mit keresnek a tevék a XII. kerületben? És miért fontosak a gesztenyék májusban? Na meg a kerületi kilátás-napló-horgoló klub-kutyakártya-útvonalak-helyi történetek hogyan érnek össze? Elmeséljük\,  megmutatjuk! Várunk mindenkit szeretettel! Hallgatók: Fekete Anna\,  Szabó Anna\,  Deák Róza\,  Dezső Luca\,  Gacsályi Kristóf\, [..]\nhttps://lovasut.hu/events/gesztenyeteve/
URL:https://lovasut.hu/events/gesztenyeteve/
END:VEVENT
END:VCALENDAR