BEGIN:VCALENDAR
VERSION:2.0
PRODID:-//eventon.com NONSGML v1.0//EN
CALSCALE:GREGORIAN
METHOD:PUBLISH
BEGIN:VEVENT
UID:69e712160fad4
DTSTAMP:20260421T075846
DTSTART:20251002T193000Z
DTEND:20251002T204500Z
TZID:Europe/Budapest
LOCATION:
SUMMARY:Lassan
DESCRIPTION:Anya és fia. Egy halogatott\,  fontos beszélgetés. Egy színdarab. Az élet. A halál. A dráma a kommunikációképtelenségről beszél. Tudunk kérdezni egymástól? Egyáltalán akarunk? Van rá igényünk? Mitől tartunk? Vagy egyenesen félünk? Aztán meg már késő. író: Márfi Márk dramaturg: Sándor Juli és Mikó Csaba látvány: Hegyessy Nóri és Márfi Márk[..]\nhttps://lovasut.hu/events/lassan-1002/
URL:https://lovasut.hu/events/lassan-1002/
END:VEVENT
END:VCALENDAR