BEGIN:VCALENDAR
VERSION:2.0
PRODID:-//eventon.com NONSGML v1.0//EN
CALSCALE:GREGORIAN
METHOD:PUBLISH
BEGIN:VEVENT
UID:69e6b4a3cfd66
DTSTAMP:20260421T012003
DTSTART:20251123T190000Z
DTEND:20251123T203000Z
TZID:Europe/Budapest
LOCATION:
SUMMARY:Üvegfal - 100. előadás!
DESCRIPTION:Dobray Sarolta könyvéből. Az Üvegfal Léna és Péter örvényszerű házasságát meséli el\,  a feleség és a férj szemszögéből egyaránt. Lassan\,  lépésenként bomlik ki és válik világossá\,  hogy valójában egy érzelmileg bántalmazó kapcsolattal állunk szemben. Miért csinálja Péter? Miért hagyja Léna? Mi ez a gyakran eszméletvesztésig pörgő tánc? Szeretet\,  szerelem hajtja? Vagy[..]\nhttps://lovasut.hu/events/uvegfal-1123/
URL:https://lovasut.hu/events/uvegfal-1123/
END:VEVENT
END:VCALENDAR