BEGIN:VCALENDAR
VERSION:2.0
PRODID:-//eventon.com NONSGML v1.0//EN
CALSCALE:GREGORIAN
METHOD:PUBLISH
BEGIN:VEVENT
UID:69e72fb0588bc
DTSTAMP:20260421T100504
DTSTART:20250922
DTEND:20251125
TZID:Europe/Budapest
LOCATION:
SUMMARY:Szenior örömtánc
DESCRIPTION:Táncoljunk együtt\,  hiszen a tánc pozitívan hat testre és lélekre egyaránt! A táncolás öröme kortalan\,  oldja a feszültséget\,  életenergiát ad\,  kiegyensúlyozottá\,  boldoggá tesz. A szenior örömtánc alaplépései kíméletesek az izmok\,  ízületek számára\,  kiváló memória- és orientációs gyakorlatok. A szeniortáncban baráti társaságra lehet lelni\,  átélhetjük a közösséghez tartozás jóleső érzését. Sem[..]\nhttps://lovasut.hu/events/szenior-oromtanc-2025osz/
URL:https://lovasut.hu/events/szenior-oromtanc-2025osz/
END:VEVENT
END:VCALENDAR