BEGIN:VCALENDAR
VERSION:2.0
PRODID:-//eventon.com NONSGML v1.0//EN
CALSCALE:GREGORIAN
METHOD:PUBLISH
BEGIN:VEVENT
UID:69e72f5fd24bf
DTSTAMP:20260421T100343
DTSTART:20250907T100000Z
DTEND:20250907T120000Z
TZID:Europe/Budapest
LOCATION:
SUMMARY:Évadnyitó Ringató koncert
DESCRIPTION:Kisgyermekes családokat várunk szeretettel az „évad” első Ringatójára. Játsszunk és énekeljük együtt közösen! Szeptembertől júniusig minden szerdán 10 órától Sándorné Krizsán Ildikó tart Ringató foglalkozást a Lóvasút Kulturális és Rendezvényközpontban. Ezen a szeptember 7-i családi programon várjuk a foglalkozásokra járókat\,  a járni tervezőket\,  nagytestvéreket\,  és mindenkit\,  aki szívesen kipróbálná a[..]\nhttps://lovasut.hu/events/evadnyito-ringato-koncert/
URL:https://lovasut.hu/events/evadnyito-ringato-koncert/
END:VEVENT
END:VCALENDAR