BEGIN:VCALENDAR
VERSION:2.0
PRODID:-//eventon.com NONSGML v1.0//EN
CALSCALE:GREGORIAN
METHOD:PUBLISH
BEGIN:VEVENT
UID:69e730021fc57
DTSTAMP:20260421T100626
DTSTART:20250921T100000Z
DTEND:20250921T104000Z
TZID:Europe/Budapest
LOCATION:
SUMMARY:Tütü-tutu autó
DESCRIPTION:A 0-4 éves korosztályt és szüleiket\,  nagyszüleiket várja a Lóvasút babaszínházi sorozata. Alkalmak: Szeptember 21. (vasárnap) 10:00 Vaskakas Bábszínház (Győr): Tütü-tutu autó November 2. (vasárnap) 10:00 Kövér Béla Bábszínház (Szeged): Rókus Mókus Tütü-tutu autó\,  felharsan a dudaszó! Tütü\,  vigyázz\,  gyorsan jövök\,  Fát\,  virágot kikerülök. Autóval\,  kishajóval\,  robogóval vagy traktorral\,  Én[..]\nhttps://lovasut.hu/events/tutu-tutu-auto/
URL:https://lovasut.hu/events/tutu-tutu-auto/
END:VEVENT
END:VCALENDAR