BEGIN:VCALENDAR
VERSION:2.0
PRODID:-//eventon.com NONSGML v1.0//EN
CALSCALE:GREGORIAN
METHOD:PUBLISH
BEGIN:VEVENT
UID:69e7140ec0bc2
DTSTAMP:20260421T080710
DTSTART:20251102T100000Z
DTEND:20251102T104000Z
TZID:Europe/Budapest
LOCATION:
SUMMARY:PONT. Pont\,  mint Te!
DESCRIPTION:A 0-4 éves korosztályt és szüleiket\,  nagyszüleiket várja a Lóvasút babaszínházi sorozata. Alkalmak: Szeptember 21. (vasárnap) 10:00 Vaskakas Bábszínház (Győr): Tütü-tutu autó November 2. (vasárnap) 10:00 Kövér Béla Bábszínház (Szeged): PONT. Pont\,  mint Te! Első színházi élmény a legkisebbeknek. MŰSORVÁLTOZÁS! Az eredetileg tervezett Rókus Mókus előadás helyett a PONT. Pont\, [..]\nhttps://lovasut.hu/events/rokus-mokus/
URL:https://lovasut.hu/events/rokus-mokus/
END:VEVENT
END:VCALENDAR