BEGIN:VCALENDAR
VERSION:2.0
PRODID:-//eventon.com NONSGML v1.0//EN
CALSCALE:GREGORIAN
METHOD:PUBLISH
BEGIN:VEVENT
UID:69e6b4851ac75
DTSTAMP:20260421T011933
DTSTART:20251116T093000Z
DTEND:20251116T101500Z
TZID:Europe/Budapest
LOCATION:
SUMMARY:Izgő-mozgó hangerdő
DESCRIPTION:Zenepedagógiai foglalkozások a Lóvasúton a 0-3 éves korosztálynak! Az Öröm-Hang-Ár csapat 9:30-tól a 3 év alatti\,  majd 10:30-tól az óvodás korosztály számára tart zenepedagógiai foglalkozásokat. Időpontok: Szeptember 28. (vasárnap) 9:30-10:15 November 16. (vasárnap) 9:30-10:15 Az „Izgő-mozgó Hangerdő” interaktív zenei foglalkozásra a 0-3 éves korosztályt és családjukat várjuk. A foglalkozásban egységet alkot[..]\nhttps://lovasut.hu/events/izgo-mozgo-hangerdo-2025osz2/
URL:https://lovasut.hu/events/izgo-mozgo-hangerdo-2025osz2/
END:VEVENT
END:VCALENDAR