BEGIN:VCALENDAR
VERSION:2.0
PRODID:-//eventon.com NONSGML v1.0//EN
CALSCALE:GREGORIAN
METHOD:PUBLISH
BEGIN:VEVENT
UID:69e6b4e14fb2e
DTSTAMP:20260421T012105
DTSTART:20251116T103000Z
DTEND:20251116T111500Z
TZID:Europe/Budapest
LOCATION:
SUMMARY:Ecc\,  pecc! - Ki lehetsz?
DESCRIPTION:Zenepedagógiai foglalkozások a Lóvasúton az óvodás korosztálynak Az Öröm-Hang-Ár csapat 9:30-tól a 3 év alatti\,  majd 10:30-tól az óvodás korosztály számára tart zenepedagógiai foglalkozásokat. Időpontok: Szeptember 28. (vasárnap) 10:30-11:15 November 16. (vasárnap) 10:30-11:15 A foglalkozás egy interaktív\,  komplex zenei foglalkozás óvodásoknak a művészetterápia eszközeivel. Zene\,  ritmus\,  játék\,  mozgás egységében\,  állatok[..]\nhttps://lovasut.hu/events/ecc-pecc-ki-lehetsz-2025osz2/
URL:https://lovasut.hu/events/ecc-pecc-ki-lehetsz-2025osz2/
END:VEVENT
END:VCALENDAR