BEGIN:VCALENDAR
VERSION:2.0
PRODID:-//eventon.com NONSGML v1.0//EN
CALSCALE:GREGORIAN
METHOD:PUBLISH
BEGIN:VEVENT
UID:69e72fa430c59
DTSTAMP:20260421T100452
DTSTART:20250910
DTEND:20251218
TZID:Europe/Budapest
LOCATION:
SUMMARY:Ringató foglalkozás
DESCRIPTION:Minden héten Ringató a zugligeti Lóvasúton! Szerdánként 10 órától. A foglalkozás 30 perc hosszú. Éneklő\,  játszó édesanyák\,  édesapák csoportja\,  ahová már néhány hónapos kisbabával is lehet érkezni. A foglalkozások célja\,  hogy oldott\,  elfogadó légkörben megismertesse a legkisebb gyermekek zenei nevelésének lehetőségeit\,  és a kicsik érzékennyé\,  fogékonnyá váljanak a jó zene\, [..]\nhttps://lovasut.hu/events/ringato-foglalkozas-2025osz/
URL:https://lovasut.hu/events/ringato-foglalkozas-2025osz/
END:VEVENT
END:VCALENDAR