BEGIN:VCALENDAR
VERSION:2.0
PRODID:-//eventon.com NONSGML v1.0//EN
CALSCALE:GREGORIAN
METHOD:PUBLISH
BEGIN:VEVENT
UID:69e68717d356d
DTSTAMP:20260420T220543
DTSTART:20260220T193000Z
DTEND:20260220T200000Z
TZID:Europe/Budapest
LOCATION:
SUMMARY:Tovább
DESCRIPTION:TOVÁBB A Telik-trilógia harmadik\,  egyben befejező része. Na\,  de hogyan tovább? Nélküled nem biztos\,  hogy menni fog\,  veled stabilabb. Ha teheted\,  támogasd a projektet! Amennyiben még nem láttad a Teliket\,  gyere el rá! Ha eddig lemaradtál a Lassanról\,  várunk arra is szeretettel. A Tovább februári bemutatójáig még biztosan be tudod[..]\nhttps://lovasut.hu/events/tovabb-0220/
URL:https://lovasut.hu/events/tovabb-0220/
END:VEVENT
END:VCALENDAR