BEGIN:VCALENDAR
VERSION:2.0
PRODID:-//eventon.com NONSGML v1.0//EN
CALSCALE:GREGORIAN
METHOD:PUBLISH
BEGIN:VEVENT
UID:69e67e49f399b
DTSTAMP:20260420T212809
DTSTART:20260221T193000Z
DTEND:20260221T200000Z
TZID:Europe/Budapest
LOCATION:
SUMMARY:Tovább
DESCRIPTION:TOVÁBB A Telik-trilógia harmadik\,  egyben befejező része. Na\,  de hogyan tovább? Nélküled nem biztos\,  hogy menni fog\,  veled stabilabb. Ha teheted\,  támogasd a projektet! Amennyiben még nem láttad a Teliket\,  gyere el rá! Ha eddig lemaradtál a Lassanról\,  várunk arra is szeretettel. A Tovább februári bemutatójáig még biztosan be tudod[..]\nhttps://lovasut.hu/events/tovabb-0221/
URL:https://lovasut.hu/events/tovabb-0221/
END:VEVENT
END:VCALENDAR